BEGIN:VCALENDAR
VERSION:2.0
PRODID:-//Sabre//Sabre VObject 4.5.3//EN
CALSCALE:GREGORIAN
BEGIN:VEVENT
UID:sabre-vobject-b1e6c5e5-425b-460d-a388-7184568b6edf
DTSTAMP:20260419T130634Z
SUMMARY:Exposition : Si aujourd’hui pour demain 2
DESCRIPTION:\n\nVoir: https://www.sainte-therese.ca/evenements/bibliotheque
 /exposition-si-aujourdhui-pour-demain-2
LOCATION:Bibliothèque | 150\, boul. du Séminaire
DTSTART;TZID=America/New_York:20260331T133057
DTEND;TZID=America/New_York:20260430T133101
END:VEVENT
END:VCALENDAR
